BEGIN:VCALENDAR
VERSION:2.0
PRODID:-//hacksw/handcal//NONSGML v1.0//EN
BEGIN:VEVENT
SUMMARY:31eme edition Jeanne de Laval
UID:5ff22a62-8ad6-40b8-bcee-097aeb94d50f
DTSTART:20260913T053000Z
DTEND:20260913T120000Z
LOCATION:Localisation Les halles 49250 Beaufort en Anjou
CATEGORIES:Sportif
STATUS:
DESCRIPTION:<h2><span style="font-size:16px;"><span
 style="font-family:'Times New Roman', serif;">L’association des
 Randonneurs du Val d’Authion (RVA49) organise chaque annee debut
 septembre sa manifestation Rando-Cyclo-VTT et Gravel.<br>
 Cette
 grande manifestation "La Jeanne-de-Laval" (JDL) aura lieu cette
 annee le dimanche 13 septembre 2026.</span></span><br>
 <span
 style="font-family:'Times New Roman', serif;font-size:16px;">Nous
 vous attendons des 7h30 aux Halles de Beaufort en vallee. Vous
 pourrez completer votre inscription par un plateau repas qui vous
 vous attendra au retour de votre circuit (avec plans et trace
 gpx).</span></h2>
 
 <h2><span style="font-size:16px;"><span
 style="font-family:'Times New Roman', serif;">Que vous soyez
 marcheurs, cyclos, Vttistes ou encore pratiquiez le gravel ce moment
 de convivialite sera l'occasion de decouvrir ou redecouvir les routes
 et sentiers de notre belle region.</span></span></h2>
 
 <h2><span
 style="font-size:16px;"><span style="font-family:'Times New Roman',
 serif;">N'hesitez pas a vous connecter sur notre site Internet
 www.RVA49.org ou vous retrouverez tous les details de cette
 journee.</span></span></h2>
 
 <h2> </h2>
 
 <h2> </h2>
 
 <h2> </h2>
 
 <h2> </h2>
 
 <p> </p>
URL;VALUE=URI:https://www.rva49.org/evenements/2026/09/13/31eme-edition-jeanne-de-laval-2443283
END:VEVENT
END:VCALENDAR
